BEGIN:VCALENDAR
VERSION:2.0
PRODID:-//Emerald House - ECPv6.15.13//NONSGML v1.0//EN
CALSCALE:GREGORIAN
METHOD:PUBLISH
X-WR-CALNAME:Emerald House
X-ORIGINAL-URL:https://waitarereholidays.nz
X-WR-CALDESC:Events for Emerald House
REFRESH-INTERVAL;VALUE=DURATION:PT1H
X-Robots-Tag:noindex
X-PUBLISHED-TTL:PT1H
BEGIN:VTIMEZONE
TZID:Pacific/Auckland
BEGIN:STANDARD
TZOFFSETFROM:+1300
TZOFFSETTO:+1200
TZNAME:NZST
DTSTART:20220402T140000
END:STANDARD
BEGIN:DAYLIGHT
TZOFFSETFROM:+1200
TZOFFSETTO:+1300
TZNAME:NZDT
DTSTART:20220924T140000
END:DAYLIGHT
BEGIN:STANDARD
TZOFFSETFROM:+1300
TZOFFSETTO:+1200
TZNAME:NZST
DTSTART:20230401T140000
END:STANDARD
BEGIN:DAYLIGHT
TZOFFSETFROM:+1200
TZOFFSETTO:+1300
TZNAME:NZDT
DTSTART:20230923T140000
END:DAYLIGHT
BEGIN:STANDARD
TZOFFSETFROM:+1300
TZOFFSETTO:+1200
TZNAME:NZST
DTSTART:20240406T140000
END:STANDARD
BEGIN:DAYLIGHT
TZOFFSETFROM:+1200
TZOFFSETTO:+1300
TZNAME:NZDT
DTSTART:20240928T140000
END:DAYLIGHT
END:VTIMEZONE
BEGIN:VEVENT
DTSTART;TZID=Pacific/Auckland:20230103T080000
DTEND;TZID=Pacific/Auckland:20230111T170000
DTSTAMP:20260423T025033
CREATED:20220924T223807Z
LAST-MODIFIED:20231212T034224Z
UID:483-1672732800-1673456400@waitarereholidays.nz
SUMMARY:BookedEA
DESCRIPTION:
URL:https://waitarereholidays.nz/event/bookedea/
END:VEVENT
BEGIN:VEVENT
DTSTART;TZID=Pacific/Auckland:20230103T080000
DTEND;TZID=Pacific/Auckland:20230111T170000
DTSTAMP:20260423T025033
CREATED:20221228T083859Z
LAST-MODIFIED:20231212T034426Z
UID:537-1672732800-1673456400@waitarereholidays.nz
SUMMARY:Booked EA
DESCRIPTION:
URL:https://waitarereholidays.nz/event/booked-ea-3/
END:VEVENT
BEGIN:VEVENT
DTSTART;TZID=Pacific/Auckland:20230109T080000
DTEND;TZID=Pacific/Auckland:20230111T170000
DTSTAMP:20260423T025033
CREATED:20221228T082925Z
LAST-MODIFIED:20221228T082925Z
UID:534-1673251200-1673456400@waitarereholidays.nz
SUMMARY:Booked KH
DESCRIPTION:
URL:https://waitarereholidays.nz/event/booked-kh-3/
END:VEVENT
BEGIN:VEVENT
DTSTART;TZID=Pacific/Auckland:20230111T080000
DTEND;TZID=Pacific/Auckland:20230119T170000
DTSTAMP:20260423T025033
CREATED:20220925T005222Z
LAST-MODIFIED:20221114T192636Z
UID:485-1673424000-1674147600@waitarereholidays.nz
SUMMARY:BookedEA
DESCRIPTION:
URL:https://waitarereholidays.nz/event/bookedea-2/
END:VEVENT
END:VCALENDAR